BEGIN:VCALENDAR
VERSION:2.0
PRODID:-//École de boulangerie - ECPv6.15.20//NONSGML v1.0//EN
CALSCALE:GREGORIAN
METHOD:PUBLISH
X-WR-CALNAME:École de boulangerie
X-ORIGINAL-URL:https://festivaldespains.dev.atmedia.fr/ecole
X-WR-CALDESC:Évènements pour École de boulangerie
REFRESH-INTERVAL;VALUE=DURATION:PT1H
X-Robots-Tag:noindex
X-PUBLISHED-TTL:PT1H
BEGIN:VTIMEZONE
TZID:Europe/Paris
BEGIN:DAYLIGHT
TZOFFSETFROM:+0100
TZOFFSETTO:+0200
TZNAME:CEST
DTSTART:20250330T010000
END:DAYLIGHT
BEGIN:STANDARD
TZOFFSETFROM:+0200
TZOFFSETTO:+0100
TZNAME:CET
DTSTART:20251026T010000
END:STANDARD
BEGIN:DAYLIGHT
TZOFFSETFROM:+0100
TZOFFSETTO:+0200
TZNAME:CEST
DTSTART:20260329T010000
END:DAYLIGHT
BEGIN:STANDARD
TZOFFSETFROM:+0200
TZOFFSETTO:+0100
TZNAME:CET
DTSTART:20261025T010000
END:STANDARD
BEGIN:DAYLIGHT
TZOFFSETFROM:+0100
TZOFFSETTO:+0200
TZNAME:CEST
DTSTART:20270328T010000
END:DAYLIGHT
BEGIN:STANDARD
TZOFFSETFROM:+0200
TZOFFSETTO:+0100
TZNAME:CET
DTSTART:20271031T010000
END:STANDARD
END:VTIMEZONE
BEGIN:VEVENT
DTSTART;VALUE=DATE:20260923
DTEND;VALUE=DATE:20260924
DTSTAMP:20260424T021803
CREATED:20251017T111332Z
LAST-MODIFIED:20251017T111332Z
UID:10000054-1790121600-1790206200@festivaldespains.dev.atmedia.fr
SUMMARY:Hygiène
DESCRIPTION:
URL:https://festivaldespains.dev.atmedia.fr/ecole/event/hygiene/2026-09-23/
CATEGORIES:Management-Vente-Communication-Hygiène
ATTACH;FMTTYPE=image/jpeg:https://festivaldespains.dev.atmedia.fr/ecole/wp-content/uploads/sites/2/2025/10/photos_Ecole_050-scaled.jpg
END:VEVENT
END:VCALENDAR