BEGIN:VCALENDAR
VERSION:2.0
PRODID:-//École de boulangerie - ECPv6.15.20//NONSGML v1.0//EN
CALSCALE:GREGORIAN
METHOD:PUBLISH
X-WR-CALNAME:École de boulangerie
X-ORIGINAL-URL:https://festivaldespains.dev.atmedia.fr/ecole
X-WR-CALDESC:Évènements pour École de boulangerie
REFRESH-INTERVAL;VALUE=DURATION:PT1H
X-Robots-Tag:noindex
X-PUBLISHED-TTL:PT1H
BEGIN:VTIMEZONE
TZID:Europe/Paris
BEGIN:DAYLIGHT
TZOFFSETFROM:+0100
TZOFFSETTO:+0200
TZNAME:CEST
DTSTART:20250330T010000
END:DAYLIGHT
BEGIN:STANDARD
TZOFFSETFROM:+0200
TZOFFSETTO:+0100
TZNAME:CET
DTSTART:20251026T010000
END:STANDARD
BEGIN:DAYLIGHT
TZOFFSETFROM:+0100
TZOFFSETTO:+0200
TZNAME:CEST
DTSTART:20260329T010000
END:DAYLIGHT
BEGIN:STANDARD
TZOFFSETFROM:+0200
TZOFFSETTO:+0100
TZNAME:CET
DTSTART:20261025T010000
END:STANDARD
BEGIN:DAYLIGHT
TZOFFSETFROM:+0100
TZOFFSETTO:+0200
TZNAME:CEST
DTSTART:20270328T010000
END:DAYLIGHT
BEGIN:STANDARD
TZOFFSETFROM:+0200
TZOFFSETTO:+0100
TZNAME:CET
DTSTART:20271031T010000
END:STANDARD
END:VTIMEZONE
BEGIN:VEVENT
DTSTART;VALUE=DATE:20260622
DTEND;VALUE=DATE:20260704
DTSTAMP:20260424T040830
CREATED:20251014T065434Z
LAST-MODIFIED:20251022T094615Z
UID:10000026-1782086400-1783123199@festivaldespains.dev.atmedia.fr
SUMMARY:Aide boulanger
DESCRIPTION:
URL:https://festivaldespains.dev.atmedia.fr/ecole/event/aide-boulanger/
CATEGORIES:Découverte du métier
ATTACH;FMTTYPE=image/jpeg:https://festivaldespains.dev.atmedia.fr/ecole/wp-content/uploads/sites/2/2025/10/IMG_3619-scaled.jpg
END:VEVENT
BEGIN:VEVENT
DTSTART;VALUE=DATE:20260706
DTEND;VALUE=DATE:20260711
DTSTAMP:20260424T040830
CREATED:20250822T075956Z
LAST-MODIFIED:20251212T100725Z
UID:10000022-1783296000-1783726200@festivaldespains.dev.atmedia.fr
SUMMARY:Stage Installation :  création ou reprise d'une boulangerie
DESCRIPTION:5 jours essentiels pour lancer son affaire \nFestival des Pains et l’École de Boulangerie Artisanale proposent à travers cette formation d’une semaine de réviser les indispensables du quotidien d’un.e chef.fe d’entreprise en boulangerie. \nConseils de fabrication\, conseils en gestion et management\, sketches et astuces de vente : ce stage est un incontournable pour démarrer sereinement son activité. \nTrès bien noté par nos stagiaires\, le stage d’installation est un moment clé où chacun peut échanger sur son expérience et son projet. \nNos formateurs en boulangerie\, vente et gestion accompagnent les apprenants en leur apportant des conseils personnalisés.
URL:https://festivaldespains.dev.atmedia.fr/ecole/event/stage-reprise-ou-creation-dune-boulangerie/2026-07-06/
CATEGORIES:Stage création
ATTACH;FMTTYPE=image/webp:https://festivaldespains.dev.atmedia.fr/ecole/wp-content/uploads/sites/2/2025/10/image-10-68c3bdd746e81-e1760355478160.webp
END:VEVENT
BEGIN:VEVENT
DTSTART;VALUE=DATE:20260709
DTEND;VALUE=DATE:20260710
DTSTAMP:20260424T040830
CREATED:20251017T115436Z
LAST-MODIFIED:20251017T115436Z
UID:10000060-1783555200-1783641599@festivaldespains.dev.atmedia.fr
SUMMARY:Les fondamentaux de la gestion d'équipe
DESCRIPTION:
URL:https://festivaldespains.dev.atmedia.fr/ecole/event/les-fondamentaux-de-la-gestion-dequipe/
CATEGORIES:Management-Vente-Communication-Hygiène
ATTACH;FMTTYPE=image/jpeg:https://festivaldespains.dev.atmedia.fr/ecole/wp-content/uploads/sites/2/2025/10/photos_Ecole_050-scaled.jpg
END:VEVENT
END:VCALENDAR