BEGIN:VCALENDAR
VERSION:2.0
PRODID:-//École de boulangerie - ECPv6.15.20//NONSGML v1.0//EN
CALSCALE:GREGORIAN
METHOD:PUBLISH
X-WR-CALNAME:École de boulangerie
X-ORIGINAL-URL:https://festivaldespains.dev.atmedia.fr/ecole
X-WR-CALDESC:Évènements pour École de boulangerie
REFRESH-INTERVAL;VALUE=DURATION:PT1H
X-Robots-Tag:noindex
X-PUBLISHED-TTL:PT1H
BEGIN:VTIMEZONE
TZID:Europe/Paris
BEGIN:DAYLIGHT
TZOFFSETFROM:+0100
TZOFFSETTO:+0200
TZNAME:CEST
DTSTART:20250330T010000
END:DAYLIGHT
BEGIN:STANDARD
TZOFFSETFROM:+0200
TZOFFSETTO:+0100
TZNAME:CET
DTSTART:20251026T010000
END:STANDARD
BEGIN:DAYLIGHT
TZOFFSETFROM:+0100
TZOFFSETTO:+0200
TZNAME:CEST
DTSTART:20260329T010000
END:DAYLIGHT
BEGIN:STANDARD
TZOFFSETFROM:+0200
TZOFFSETTO:+0100
TZNAME:CET
DTSTART:20261025T010000
END:STANDARD
BEGIN:DAYLIGHT
TZOFFSETFROM:+0100
TZOFFSETTO:+0200
TZNAME:CEST
DTSTART:20270328T010000
END:DAYLIGHT
BEGIN:STANDARD
TZOFFSETFROM:+0200
TZOFFSETTO:+0100
TZNAME:CET
DTSTART:20271031T010000
END:STANDARD
END:VTIMEZONE
BEGIN:VEVENT
DTSTART;VALUE=DATE:20260302
DTEND;VALUE=DATE:20260307
DTSTAMP:20260424T010145
CREATED:20250822T075956Z
LAST-MODIFIED:20251212T100725Z
UID:10000019-1772409600-1772839800@festivaldespains.dev.atmedia.fr
SUMMARY:Stage Installation :  création ou reprise d'une boulangerie
DESCRIPTION:5 jours essentiels pour lancer son affaire \nFestival des Pains et l’École de Boulangerie Artisanale proposent à travers cette formation d’une semaine de réviser les indispensables du quotidien d’un.e chef.fe d’entreprise en boulangerie. \nConseils de fabrication\, conseils en gestion et management\, sketches et astuces de vente : ce stage est un incontournable pour démarrer sereinement son activité. \nTrès bien noté par nos stagiaires\, le stage d’installation est un moment clé où chacun peut échanger sur son expérience et son projet. \nNos formateurs en boulangerie\, vente et gestion accompagnent les apprenants en leur apportant des conseils personnalisés.
URL:https://festivaldespains.dev.atmedia.fr/ecole/event/stage-reprise-ou-creation-dune-boulangerie/2026-03-02/
CATEGORIES:Stage création
ATTACH;FMTTYPE=image/webp:https://festivaldespains.dev.atmedia.fr/ecole/wp-content/uploads/sites/2/2025/10/image-10-68c3bdd746e81-e1760355478160.webp
END:VEVENT
BEGIN:VEVENT
DTSTART;VALUE=DATE:20260303
DTEND;VALUE=DATE:20260305
DTSTAMP:20260424T010145
CREATED:20251015T082304Z
LAST-MODIFIED:20251015T082304Z
UID:10000045-1772496000-1772668799@festivaldespains.dev.atmedia.fr
SUMMARY:Tourtes et pâtés en croûte
DESCRIPTION:
URL:https://festivaldespains.dev.atmedia.fr/ecole/event/tourtes-et-pates-en-croute/
CATEGORIES:Snacking - Traiteur
ATTACH;FMTTYPE=image/jpeg:https://festivaldespains.dev.atmedia.fr/ecole/wp-content/uploads/sites/2/2025/10/IMG_2179-scaled.jpg
END:VEVENT
BEGIN:VEVENT
DTSTART;VALUE=DATE:20260305
DTEND;VALUE=DATE:20260306
DTSTAMP:20260424T010145
CREATED:20251017T113024Z
LAST-MODIFIED:20251017T113024Z
UID:10000056-1772668800-1772755199@festivaldespains.dev.atmedia.fr
SUMMARY:L'art de l'étiquetage
DESCRIPTION:
URL:https://festivaldespains.dev.atmedia.fr/ecole/event/lart-de-letiquetage/
CATEGORIES:Management-Vente-Communication-Hygiène
ATTACH;FMTTYPE=image/jpeg:https://festivaldespains.dev.atmedia.fr/ecole/wp-content/uploads/sites/2/2025/10/photos_Ecole_050-scaled.jpg
END:VEVENT
BEGIN:VEVENT
DTSTART;VALUE=DATE:20260309
DTEND;VALUE=DATE:20260311
DTSTAMP:20260424T010145
CREATED:20251015T084007Z
LAST-MODIFIED:20251022T071841Z
UID:10000047-1773014400-1773187199@festivaldespains.dev.atmedia.fr
SUMMARY:Pâtisserie boulangère
DESCRIPTION:
URL:https://festivaldespains.dev.atmedia.fr/ecole/event/patisserie-boulangere/
CATEGORIES:Pâtisserie
ATTACH;FMTTYPE=image/heic:https://festivaldespains.dev.atmedia.fr/ecole/wp-content/uploads/sites/2/2025/10/6C7F6DFC-BD39-46A2-9A41-6B44CEE3592F_1_201_a-scaled.jpg
END:VEVENT
BEGIN:VEVENT
DTSTART;VALUE=DATE:20260311
DTEND;VALUE=DATE:20260313
DTSTAMP:20260424T010145
CREATED:20251015T062142Z
LAST-MODIFIED:20251015T062152Z
UID:10000042-1773187200-1773359999@festivaldespains.dev.atmedia.fr
SUMMARY:Snacking estival : entre formes et saveurs nouvelles
DESCRIPTION:
URL:https://festivaldespains.dev.atmedia.fr/ecole/event/snacking-estival-entre-formes-et-saveurs-nouvelles/
CATEGORIES:Snacking - Traiteur
ATTACH;FMTTYPE=image/jpeg:https://festivaldespains.dev.atmedia.fr/ecole/wp-content/uploads/sites/2/2025/10/7E0918FB-A3CB-4503-9F92-4E849601B861-scaled.jpeg
END:VEVENT
BEGIN:VEVENT
DTSTART;VALUE=DATE:20260323
DTEND;VALUE=DATE:20260325
DTSTAMP:20260424T010145
CREATED:20251015T111550Z
LAST-MODIFIED:20251015T112515Z
UID:10000048-1774224000-1774396799@festivaldespains.dev.atmedia.fr
SUMMARY:Desserts et gourmandises : La pâtisserie pour sportifs\, diabétiques et consommateurs exigeants
DESCRIPTION:
URL:https://festivaldespains.dev.atmedia.fr/ecole/event/desserts-et-gourmandises-la-patisserie-pour-sportifs-diabetiques-et-consommateurs-exigeants/
CATEGORIES:Pâtisserie
ATTACH;FMTTYPE=image/jpeg:https://festivaldespains.dev.atmedia.fr/ecole/wp-content/uploads/sites/2/2025/10/photo_8-scaled.jpeg
END:VEVENT
BEGIN:VEVENT
DTSTART;VALUE=DATE:20260325
DTEND;VALUE=DATE:20260326
DTSTAMP:20260424T010145
CREATED:20251017T111332Z
LAST-MODIFIED:20251017T111332Z
UID:10000053-1774396800-1774481400@festivaldespains.dev.atmedia.fr
SUMMARY:Hygiène
DESCRIPTION:
URL:https://festivaldespains.dev.atmedia.fr/ecole/event/hygiene/2026-03-25/
CATEGORIES:Management-Vente-Communication-Hygiène
ATTACH;FMTTYPE=image/jpeg:https://festivaldespains.dev.atmedia.fr/ecole/wp-content/uploads/sites/2/2025/10/photos_Ecole_050-scaled.jpg
END:VEVENT
END:VCALENDAR