BEGIN:VCALENDAR
VERSION:2.0
PRODID:-//École de boulangerie - ECPv6.15.20//NONSGML v1.0//EN
CALSCALE:GREGORIAN
METHOD:PUBLISH
X-ORIGINAL-URL:https://festivaldespains.dev.atmedia.fr/ecole
X-WR-CALDESC:Évènements pour École de boulangerie
REFRESH-INTERVAL;VALUE=DURATION:PT1H
X-Robots-Tag:noindex
X-PUBLISHED-TTL:PT1H
BEGIN:VTIMEZONE
TZID:Europe/Paris
BEGIN:DAYLIGHT
TZOFFSETFROM:+0100
TZOFFSETTO:+0200
TZNAME:CEST
DTSTART:20250330T010000
END:DAYLIGHT
BEGIN:STANDARD
TZOFFSETFROM:+0200
TZOFFSETTO:+0100
TZNAME:CET
DTSTART:20251026T010000
END:STANDARD
BEGIN:DAYLIGHT
TZOFFSETFROM:+0100
TZOFFSETTO:+0200
TZNAME:CEST
DTSTART:20260329T010000
END:DAYLIGHT
BEGIN:STANDARD
TZOFFSETFROM:+0200
TZOFFSETTO:+0100
TZNAME:CET
DTSTART:20261025T010000
END:STANDARD
BEGIN:DAYLIGHT
TZOFFSETFROM:+0100
TZOFFSETTO:+0200
TZNAME:CEST
DTSTART:20270328T010000
END:DAYLIGHT
BEGIN:STANDARD
TZOFFSETFROM:+0200
TZOFFSETTO:+0100
TZNAME:CET
DTSTART:20271031T010000
END:STANDARD
END:VTIMEZONE
BEGIN:VEVENT
DTSTART;VALUE=DATE:20260309
DTEND;VALUE=DATE:20260311
DTSTAMP:20260424T102946
CREATED:20251015T084007Z
LAST-MODIFIED:20251022T071841Z
UID:10000047-1773014400-1773187199@festivaldespains.dev.atmedia.fr
SUMMARY:Pâtisserie boulangère
DESCRIPTION:
URL:https://festivaldespains.dev.atmedia.fr/ecole/event/patisserie-boulangere/
CATEGORIES:Pâtisserie
ATTACH;FMTTYPE=image/heic:https://festivaldespains.dev.atmedia.fr/ecole/wp-content/uploads/sites/2/2025/10/6C7F6DFC-BD39-46A2-9A41-6B44CEE3592F_1_201_a-scaled.jpg
END:VEVENT
BEGIN:VEVENT
DTSTART;VALUE=DATE:20260323
DTEND;VALUE=DATE:20260325
DTSTAMP:20260424T102946
CREATED:20251015T111550Z
LAST-MODIFIED:20251015T112515Z
UID:10000048-1774224000-1774396799@festivaldespains.dev.atmedia.fr
SUMMARY:Desserts et gourmandises : La pâtisserie pour sportifs\, diabétiques et consommateurs exigeants
DESCRIPTION:
URL:https://festivaldespains.dev.atmedia.fr/ecole/event/desserts-et-gourmandises-la-patisserie-pour-sportifs-diabetiques-et-consommateurs-exigeants/
CATEGORIES:Pâtisserie
ATTACH;FMTTYPE=image/jpeg:https://festivaldespains.dev.atmedia.fr/ecole/wp-content/uploads/sites/2/2025/10/photo_8-scaled.jpeg
END:VEVENT
END:VCALENDAR