BEGIN:VCALENDAR
VERSION:2.0
PRODID:-//École de boulangerie - ECPv6.15.20//NONSGML v1.0//EN
CALSCALE:GREGORIAN
METHOD:PUBLISH
X-ORIGINAL-URL:https://festivaldespains.dev.atmedia.fr/ecole
X-WR-CALDESC:Évènements pour École de boulangerie
REFRESH-INTERVAL;VALUE=DURATION:PT1H
X-Robots-Tag:noindex
X-PUBLISHED-TTL:PT1H
BEGIN:VTIMEZONE
TZID:Europe/Paris
BEGIN:DAYLIGHT
TZOFFSETFROM:+0100
TZOFFSETTO:+0200
TZNAME:CEST
DTSTART:20250330T010000
END:DAYLIGHT
BEGIN:STANDARD
TZOFFSETFROM:+0200
TZOFFSETTO:+0100
TZNAME:CET
DTSTART:20251026T010000
END:STANDARD
BEGIN:DAYLIGHT
TZOFFSETFROM:+0100
TZOFFSETTO:+0200
TZNAME:CEST
DTSTART:20260329T010000
END:DAYLIGHT
BEGIN:STANDARD
TZOFFSETFROM:+0200
TZOFFSETTO:+0100
TZNAME:CET
DTSTART:20261025T010000
END:STANDARD
BEGIN:DAYLIGHT
TZOFFSETFROM:+0100
TZOFFSETTO:+0200
TZNAME:CEST
DTSTART:20270328T010000
END:DAYLIGHT
BEGIN:STANDARD
TZOFFSETFROM:+0200
TZOFFSETTO:+0100
TZNAME:CET
DTSTART:20271031T010000
END:STANDARD
END:VTIMEZONE
BEGIN:VEVENT
DTSTART;VALUE=DATE:20260907
DTEND;VALUE=DATE:20260909
DTSTAMP:20260424T110808
CREATED:20251014T181803Z
LAST-MODIFIED:20251014T181803Z
UID:10000029-1788739200-1788911999@festivaldespains.dev.atmedia.fr
SUMMARY:La viennoiserie
DESCRIPTION:
URL:https://festivaldespains.dev.atmedia.fr/ecole/event/la-viennoiserie/
CATEGORIES:Boulangerie - Viennoiserie
ATTACH;FMTTYPE=image/jpeg:https://festivaldespains.dev.atmedia.fr/ecole/wp-content/uploads/sites/2/2025/10/IMG_6468-scaled.jpg
END:VEVENT
BEGIN:VEVENT
DTSTART;VALUE=DATE:20260909
DTEND;VALUE=DATE:20260911
DTSTAMP:20260424T110808
CREATED:20251014T183840Z
LAST-MODIFIED:20251014T183915Z
UID:10000031-1788912000-1789084799@festivaldespains.dev.atmedia.fr
SUMMARY:Les galettes
DESCRIPTION:
URL:https://festivaldespains.dev.atmedia.fr/ecole/event/les-galettes/
CATEGORIES:Boulangerie - Viennoiserie
ATTACH;FMTTYPE=image/jpeg:https://festivaldespains.dev.atmedia.fr/ecole/wp-content/uploads/sites/2/2025/10/IMG_6297-scaled.jpg
END:VEVENT
BEGIN:VEVENT
DTSTART;VALUE=DATE:20260921
DTEND;VALUE=DATE:20260923
DTSTAMP:20260424T110808
CREATED:20251014T184455Z
LAST-MODIFIED:20251014T184455Z
UID:10000032-1789948800-1790121599@festivaldespains.dev.atmedia.fr
SUMMARY:Pain et viennoiserie d'artisans
DESCRIPTION:
URL:https://festivaldespains.dev.atmedia.fr/ecole/event/pain-et-viennoiserie-dartisans/
CATEGORIES:Boulangerie - Viennoiserie
ATTACH;FMTTYPE=image/jpeg:https://festivaldespains.dev.atmedia.fr/ecole/wp-content/uploads/sites/2/2025/10/Photo-7-scaled.jpg
END:VEVENT
END:VCALENDAR